Workbook

Sheet 入力画面
A1: ２０２６年度 三重県合唱連盟(継続）加盟申込書
C2: ※2026年5月7日必着 | G2: 提出日 | H2: 年 月 日
A3: ※１ ひらがな
A4: 団 体 名 (学校の場合クラブ名まで記入） | J4: ※学校名等は正式名称でご登録ください。 例）県立高校であれば 三重県立○○高等学校○○部
A5: 該当する部門名の上に 〇 を付けてください→ | J5: ← 該当する部門の上に〇をつけてください
A6: 部 門 | C6: 児童 | D6: 中学 | E6: 高校 | F6: 大学 | G6: 職場 | H6: 一般 | I6: おかあさん
A7: 該当する編成名の上に 〇 を付けてください→ | G7: 人数 | J7: ← 該当する編成の上に〇をつけてください
A8: 編 成 | C8: 混声 | D8: 男声 | E8: 女声 | F8: 同声 | I8: 名 ※2
B9: ひらがな
A10: 連 | B10: 名 前
C11: 〒
A12: 絡 | B12: 住 所
C13: TEL | G13: FAX
A14: 先 | C14: 〒
B15: 勤務先
C16: TEL | G16: FAX
B17: ※３(必須） | C17: 理事会報告等の資料の配信希望の有無 | G17: １．有 ２．無 数字→
B18: Eメールアドレス
B19: ひらがな
A20: 代 | B20: 名 前 | J20: ← 同上の場合もお名前を入力してください
C21: 〒
A22: 表 | B22: 住 所
C23: TEL | G23: FAX
A24: 者 | C24: 〒
B25: 勤務先
C26: TEL | G26: FAX
B27: ※３(必須）
B28: Eメールアドレス
B29: ひらがな
A30: 指 | B30: 名 前 | J30: ← 同上の場合もお名前を入力してください
A31: 揮 | C31: 〒
A32: 者 | B32: 住 所
C33: TEL | G33: FAX
A34: ※5 ハーモニー注文数 | E34: → | H34: 冊
A35: 名曲シリーズ(ｺﾝｸｰﾙ課題曲集）注文冊数 | E35: → | H35: 冊
A37: ※1 | B37: 団体名は、「 」・等のついている場合も省略しないでください。
B38: 学校の場合は、クラブ名（合唱部・コーラス部等）も省略しないでください。
A39: ※2 | B39: 人数が未定の団体は概数でも結構です。
A40: ※3 | B40: 住所・Eメールアドレスは必ず記載してください。記載がない場合は理事会報告等の配信はしません。
A41: ※4 | B41: 代表者・連絡先等が同じの場合は、お名前以外は同上と入力してください。
...

Sheet 何も記入しないで下さい
C2: 部門 | J2: 声部 | O2: 連絡先 | X2: 代表者 | AF2: 指揮者
A3: 提出日 | B3: 団体名 | C3: 児童 | D3: 中学 | E3: 高校 | F3: 大学 | G3: 職場 | H3: 一般 | I3: おかあさん | J3: 混声 | K3: 男声 | L3: 女声 | M3: 同声 | N3: 人数 | O3: 連絡先名 | P3: 〒 | Q3: 住所 | R3: 連絡TEL | S3: 連絡FAX | T3: 勤務先〒 | U3: 勤務先住所 | V3: 理事会報告 | W3: Email | X3: 代表名 | Y3: 〒 | Z3: 代表住所 | AA3: 代表TEL | AB3: 代表FAX | AC3: 代勤務〒 | AD3: 代勤務住所 | AE3: Email | AF3: 指揮名 | AG3: 〒 | AH3: 指揮住所 | AI3: 指揮TEL | AJ3: 指揮FAX | AK3: ﾊｰﾓﾆ数 | AL3: 名曲数
A4: =入力画面!H2 -> 年 月 日 | B4: =入力画面!C4 -> 0 | C4: =入力画面!C5 -> 0 | D4: =入力画面!D5 -> 0 | E4: =入力画面!E5 -> 0 | F4: =入力画面!F5 -> 0 | G4: =入力画面!G5 -> 0 | H4: =入力画面!H5 -> 0 | I4: =入力画面!I5 -> 0 | J4: =入力画面!C7 -> 0 | K4: =入力画面!D7 -> 0 | L4: =入力画面!E7 -> 0 | M4: =入力画面!F7 -> 0 | N4: =入力画面!H8 -> 0 | O4: =入力画面!C10 -> 0 | P4: =入力画面!C11 -> 〒 | Q4: =入力画面!C12 -> 0 | R4: =入力画面!D13 -> 0 | S4: =入力画面!H13 -> 0 | T4: =入力画面!C14 -> 〒 | U4: =入力画面!C15 -> 0 | V4: =入力画面!I17 -> 0 | W4: =入力画面!C18 -> 0 | X4: =入力画面!C20 -> 0 | Y4: =入力画面!C21 -> 〒 | Z4: =入力画面!C22 -> 0 | AA4: =入力画面!D23 -> 0 | AB4: =入力画面!H23 -> 0 | AC4: =入力画面!C25 -> 0 | AD4: =入力画面!C25 -> 0 | AE4: =入力画面!C28 -> 0 | AF4: =入力画面!C30 -> 0 | AG4: =入力画面!C31 -> 〒 | AH4: =入力画面!C32 -> 0 | AI4: =入力画面!D33 -> 0 | AJ4: =入力画面!H33 -> 0 | AK4: =入力画面!F34 -> 0 | AL4: =入力画面!F35 -> 0
